Package: Path2PPI Version: 1.41.0 Command: /Library/Frameworks/R.framework/Resources/bin/R CMD build --keep-empty-dirs --no-resave-data Path2PPI StartedAt: 2025-11-13 17:17:50 -0500 (Thu, 13 Nov 2025) EndedAt: 2025-11-13 17:17:56 -0500 (Thu, 13 Nov 2025) EllapsedTime: 6.1 seconds RetCode: 0 Status: OK PackageFile: Path2PPI_1.41.0.tar.gz PackageFileSize: 1.475 MiB