Package: Path2PPI Version: 1.41.0 Command: rm -rf Path2PPI.buildbin-libdir && mkdir Path2PPI.buildbin-libdir && /Users/biocbuild/BBS/utils/build-universal.sh Path2PPI_1.41.0.tar.gz /Library/Frameworks/R.framework/Resources/bin/R Path2PPI.buildbin-libdir StartedAt: 2025-11-13 23:49:54 -0500 (Thu, 13 Nov 2025) EndedAt: 2025-11-13 23:49:58 -0500 (Thu, 13 Nov 2025) EllapsedTime: 3.1 seconds RetCode: 0 Status: OK PackageFile: Path2PPI_1.41.0.tgz PackageFileSize: 1.37 MiB