Package: Path2PPI Version: 1.41.0 Maintainer: Oliver Philipp MaintainerEmail: contact at oliverphilipp.info git_url: https://git.bioconductor.org/packages/Path2PPI git_branch: devel git_last_commit: 382d4fd git_last_commit_date: 2025-10-29 10:27:27 -0500 (Wed, 29 Oct 2025)