Package: PWMEnrich Version: 4.47.0 Command: /Library/Frameworks/R.framework/Resources/bin/R CMD INSTALL PWMEnrich StartedAt: 2025-11-12 15:26:53 -0500 (Wed, 12 Nov 2025) EndedAt: 2025-11-12 15:26:58 -0500 (Wed, 12 Nov 2025) EllapsedTime: 4.8 seconds RetCode: 0 Status: OK