Package: PWMEnrich Version: 4.47.0 Command: /Library/Frameworks/R.framework/Resources/bin/R CMD build --keep-empty-dirs --no-resave-data PWMEnrich StartedAt: 2025-11-12 17:00:00 -0500 (Wed, 12 Nov 2025) EndedAt: 2025-11-12 17:00:27 -0500 (Wed, 12 Nov 2025) EllapsedTime: 27.4 seconds RetCode: 0 Status: OK PackageFile: PWMEnrich_4.47.0.tar.gz PackageFileSize: 1.571 MiB