Package: PSMatch Version: 1.15.0 Command: /home/biocbuild/bbs-3.23-bioc/R/bin/R CMD INSTALL PSMatch StartedAt: 2025-11-14 15:35:55 -0500 (Fri, 14 Nov 2025) EndedAt: 2025-11-14 15:36:26 -0500 (Fri, 14 Nov 2025) EllapsedTime: 30.8 seconds RetCode: 0 Status: OK