Package: PSMatch Version: 1.15.0 Command: /home/biocbuild/bbs-3.23-bioc/R/bin/R CMD build --keep-empty-dirs --no-resave-data PSMatch StartedAt: 2025-11-13 19:23:25 -0500 (Thu, 13 Nov 2025) EndedAt: 2025-11-13 19:25:12 -0500 (Thu, 13 Nov 2025) EllapsedTime: 107.1 seconds RetCode: 0 Status: OK PackageFile: PSMatch_1.15.0.tar.gz PackageFileSize: 1.745 MiB