Package: PSMatch Version: 1.15.0 Command: /Library/Frameworks/R.framework/Resources/bin/R CMD INSTALL PSMatch StartedAt: 2025-11-13 15:20:37 -0500 (Thu, 13 Nov 2025) EndedAt: 2025-11-13 15:20:49 -0500 (Thu, 13 Nov 2025) EllapsedTime: 12.3 seconds RetCode: 0 Status: OK