Package: PSMatch Version: 1.15.0 Command: /Library/Frameworks/R.framework/Resources/bin/R CMD build --keep-empty-dirs --no-resave-data PSMatch StartedAt: 2025-11-13 17:23:36 -0500 (Thu, 13 Nov 2025) EndedAt: 2025-11-13 17:24:32 -0500 (Thu, 13 Nov 2025) EllapsedTime: 55.6 seconds RetCode: 0 Status: OK PackageFile: PSMatch_1.15.0.tar.gz PackageFileSize: 1.766 MiB