Package: PSMatch Version: 1.15.0 Command: rm -rf PSMatch.buildbin-libdir && mkdir PSMatch.buildbin-libdir && /Users/biocbuild/BBS/utils/build-universal.sh PSMatch_1.15.0.tar.gz /Library/Frameworks/R.framework/Resources/bin/R PSMatch.buildbin-libdir StartedAt: 2025-11-13 23:51:16 -0500 (Thu, 13 Nov 2025) EndedAt: 2025-11-13 23:51:33 -0500 (Thu, 13 Nov 2025) EllapsedTime: 16.3 seconds RetCode: 0 Status: OK PackageFile: PSMatch_1.15.0.tgz PackageFileSize: 2.099 MiB