Package: PROcess Version: 1.87.0 Command: /home/biocbuild/bbs-3.23-bioc/R/bin/R CMD INSTALL PROcess StartedAt: 2025-11-13 15:14:47 -0500 (Thu, 13 Nov 2025) EndedAt: 2025-11-13 15:14:52 -0500 (Thu, 13 Nov 2025) EllapsedTime: 4.7 seconds RetCode: 0 Status: OK