Package: PROcess Version: 1.87.0 Command: /Library/Frameworks/R.framework/Resources/bin/R CMD INSTALL PROcess StartedAt: 2025-11-13 15:10:17 -0500 (Thu, 13 Nov 2025) EndedAt: 2025-11-13 15:10:20 -0500 (Thu, 13 Nov 2025) EllapsedTime: 2.7 seconds RetCode: 0 Status: OK