Package: PROcess Version: 1.87.0 Command: /Library/Frameworks/R.framework/Resources/bin/R CMD build --keep-empty-dirs --no-resave-data PROcess StartedAt: 2025-11-12 16:58:58 -0500 (Wed, 12 Nov 2025) EndedAt: 2025-11-12 16:59:06 -0500 (Wed, 12 Nov 2025) EllapsedTime: 8.1 seconds RetCode: 0 Status: OK PackageFile: PROcess_1.87.0.tar.gz PackageFileSize: 2 MiB