Package: PROcess Version: 1.87.0 Maintainer: Xiaochun Li MaintainerEmail: xiaochun at jimmy.harvard.edu git_url: https://git.bioconductor.org/packages/PROcess git_branch: devel git_last_commit: a353f35 git_last_commit_date: 2025-10-29 09:54:34 -0500 (Wed, 29 Oct 2025)