Package: PROPS Version: 1.33.0 Command: /Library/Frameworks/R.framework/Resources/bin/R CMD INSTALL PROPS StartedAt: 2025-11-14 15:10:26 -0500 (Fri, 14 Nov 2025) EndedAt: 2025-11-14 15:10:33 -0500 (Fri, 14 Nov 2025) EllapsedTime: 7.1 seconds RetCode: 0 Status: OK