Package: PROPS Version: 1.33.0 Command: rm -rf PROPS.buildbin-libdir && mkdir PROPS.buildbin-libdir && /Users/biocbuild/BBS/utils/build-universal.sh PROPS_1.33.0.tar.gz /Library/Frameworks/R.framework/Resources/bin/R PROPS.buildbin-libdir StartedAt: 2025-11-14 23:46:17 -0500 (Fri, 14 Nov 2025) EndedAt: 2025-11-14 23:46:27 -0500 (Fri, 14 Nov 2025) EllapsedTime: 10.3 seconds RetCode: 0 Status: OK PackageFile: PROPS_1.33.0.tgz PackageFileSize: 3.603 MiB