Package: PROPER Version: 1.43.0 Command: /home/biocbuild/bbs-3.23-bioc/R/bin/R CMD build --keep-empty-dirs --no-resave-data PROPER StartedAt: 2025-11-14 19:22:43 -0500 (Fri, 14 Nov 2025) EndedAt: 2025-11-14 19:22:51 -0500 (Fri, 14 Nov 2025) EllapsedTime: 8.0 seconds RetCode: 0 Status: OK PackageFile: PROPER_1.43.0.tar.gz PackageFileSize: 1.8 MiB