Package: PROMISE Version: 1.63.0 Command: /home/biocbuild/bbs-3.23-bioc/R/bin/R CMD INSTALL PROMISE StartedAt: 2025-11-14 15:30:35 -0500 (Fri, 14 Nov 2025) EndedAt: 2025-11-14 15:30:49 -0500 (Fri, 14 Nov 2025) EllapsedTime: 13.7 seconds RetCode: 0 Status: OK