Package: PROMISE Version: 1.63.0 Command: /home/biocbuild/bbs-3.23-bioc/R/bin/R CMD build --keep-empty-dirs --no-resave-data PROMISE StartedAt: 2025-11-13 19:22:13 -0500 (Thu, 13 Nov 2025) EndedAt: 2025-11-13 19:22:36 -0500 (Thu, 13 Nov 2025) EllapsedTime: 23.0 seconds RetCode: 0 Status: OK PackageFile: PROMISE_1.63.0.tar.gz PackageFileSize: 135.3 KiB