Package: PROMISE Version: 1.63.0 Maintainer: Stan Pounds , Xueyuan Cao MaintainerEmail: xueyuan.cao at stjude.org git_url: https://git.bioconductor.org/packages/PROMISE git_branch: devel git_last_commit: d65a441 git_last_commit_date: 2025-10-29 10:04:56 -0500 (Wed, 29 Oct 2025)