Package: PREDA Version: 1.57.0 Command: /Library/Frameworks/R.framework/Resources/bin/R CMD INSTALL PREDA StartedAt: 2025-11-13 15:09:18 -0500 (Thu, 13 Nov 2025) EndedAt: 2025-11-13 15:09:25 -0500 (Thu, 13 Nov 2025) EllapsedTime: 7.5 seconds RetCode: 0 Status: OK