Package: PREDA Version: 1.57.0 Command: /Library/Frameworks/R.framework/Resources/bin/R CMD build --keep-empty-dirs --no-resave-data PREDA StartedAt: 2025-11-13 17:22:09 -0500 (Thu, 13 Nov 2025) EndedAt: 2025-11-13 17:23:01 -0500 (Thu, 13 Nov 2025) EllapsedTime: 51.6 seconds RetCode: 0 Status: OK PackageFile: PREDA_1.57.0.tar.gz PackageFileSize: 2.005 MiB