Package: PREDA Version: 1.57.0 Maintainer: Francesco Ferrari MaintainerEmail: francesco.ferrari at ifom.eu git_url: https://git.bioconductor.org/packages/PREDA git_branch: devel git_last_commit: 082ec94 git_last_commit_date: 2025-10-29 10:08:27 -0500 (Wed, 29 Oct 2025)