Package: PPInfer Version: 1.37.0 Command: /home/biocbuild/bbs-3.23-bioc/R/bin/R CMD INSTALL PPInfer StartedAt: 2025-11-13 15:31:43 -0500 (Thu, 13 Nov 2025) EndedAt: 2025-11-13 15:32:07 -0500 (Thu, 13 Nov 2025) EllapsedTime: 23.5 seconds RetCode: 0 Status: OK