Package: PPInfer Version: 1.37.0 Command: /Library/Frameworks/R.framework/Resources/bin/R CMD INSTALL PPInfer StartedAt: 2025-11-14 15:10:30 -0500 (Fri, 14 Nov 2025) EndedAt: 2025-11-14 15:10:39 -0500 (Fri, 14 Nov 2025) EllapsedTime: 9.0 seconds RetCode: 0 Status: OK