Package: PPInfer Version: 1.37.0 Command: /Library/Frameworks/R.framework/Resources/bin/R CMD build --keep-empty-dirs --no-resave-data PPInfer StartedAt: 2025-11-14 17:18:50 -0500 (Fri, 14 Nov 2025) EndedAt: 2025-11-14 17:19:28 -0500 (Fri, 14 Nov 2025) EllapsedTime: 38.4 seconds RetCode: 0 Status: OK PackageFile: PPInfer_1.37.0.tar.gz PackageFileSize: 326.2 KiB