Package: PPInfer Version: 1.37.0 Command: rm -rf PPInfer.buildbin-libdir && mkdir PPInfer.buildbin-libdir && /Users/biocbuild/BBS/utils/build-universal.sh PPInfer_1.37.0.tar.gz /Library/Frameworks/R.framework/Resources/bin/R PPInfer.buildbin-libdir StartedAt: 2025-11-16 23:47:06 -0500 (Sun, 16 Nov 2025) EndedAt: 2025-11-16 23:47:17 -0500 (Sun, 16 Nov 2025) EllapsedTime: 11.3 seconds RetCode: 0 Status: OK PackageFile: PPInfer_1.37.0.tgz PackageFileSize: 387.8 KiB