Package: PPInfer Version: 1.37.0 Maintainer: Dongmin Jung MaintainerEmail: dmdmjung at gmail.com git_url: https://git.bioconductor.org/packages/PPInfer git_branch: devel git_last_commit: 37e1583 git_last_commit_date: 2025-10-29 10:38:26 -0500 (Wed, 29 Oct 2025)