Package: POWSC Version: 1.19.0 Command: /Library/Frameworks/R.framework/Resources/bin/R CMD INSTALL POWSC StartedAt: 2025-11-13 15:13:01 -0500 (Thu, 13 Nov 2025) EndedAt: 2025-11-13 15:13:12 -0500 (Thu, 13 Nov 2025) EllapsedTime: 11.0 seconds RetCode: 0 Status: OK