Package: POWSC Version: 1.19.0 Command: rm -rf POWSC.buildbin-libdir && mkdir POWSC.buildbin-libdir && /Users/biocbuild/BBS/utils/build-universal.sh POWSC_1.19.0.tar.gz /Library/Frameworks/R.framework/Resources/bin/R POWSC.buildbin-libdir StartedAt: 2025-11-12 21:06:32 -0500 (Wed, 12 Nov 2025) EndedAt: 2025-11-12 21:06:46 -0500 (Wed, 12 Nov 2025) EllapsedTime: 14.3 seconds RetCode: 0 Status: OK PackageFile: POWSC_1.19.0.tgz PackageFileSize: 1.362 MiB