Package: POWSC Version: 1.19.0 Maintainer: Kenong Su MaintainerEmail: kenong.su at emory.edu git_url: https://git.bioconductor.org/packages/POWSC git_branch: devel git_last_commit: b092ca1 git_last_commit_date: 2025-10-29 11:09:11 -0500 (Wed, 29 Oct 2025)