Package: POMA Version: 1.21.0 Command: /home/biocbuild/bbs-3.23-bioc/R/bin/R CMD build --keep-empty-dirs --no-resave-data POMA StartedAt: 2025-11-23 19:20:33 -0500 (Sun, 23 Nov 2025) EndedAt: 2025-11-23 19:21:10 -0500 (Sun, 23 Nov 2025) EllapsedTime: 37.1 seconds RetCode: 0 Status: OK PackageFile: POMA_1.21.0.tar.gz PackageFileSize: 2.146 MiB