Package: POMA Version: 1.21.0 Command: /Library/Frameworks/R.framework/Resources/bin/R CMD INSTALL POMA StartedAt: 2025-11-14 15:31:17 -0500 (Fri, 14 Nov 2025) EndedAt: 2025-11-14 15:31:19 -0500 (Fri, 14 Nov 2025) EllapsedTime: 2.1 seconds RetCode: 0 Status: OK