Package: POMA Version: 1.21.0 Command: /Library/Frameworks/R.framework/Resources/bin/R CMD build --keep-empty-dirs --no-resave-data POMA StartedAt: 2025-11-13 17:21:30 -0500 (Thu, 13 Nov 2025) EndedAt: 2025-11-13 17:21:45 -0500 (Thu, 13 Nov 2025) EllapsedTime: 15.2 seconds RetCode: 0 Status: OK PackageFile: POMA_1.21.0.tar.gz PackageFileSize: 2.177 MiB