Package: PMScanR Version: 1.1.0 Command: /Library/Frameworks/R.framework/Resources/bin/R CMD INSTALL PMScanR StartedAt: 2025-11-13 15:19:15 -0500 (Thu, 13 Nov 2025) EndedAt: 2025-11-13 15:19:29 -0500 (Thu, 13 Nov 2025) EllapsedTime: 13.9 seconds RetCode: 0 Status: OK