Package: PMScanR Version: 1.1.0 Command: /Library/Frameworks/R.framework/Resources/bin/R CMD build --keep-empty-dirs --no-resave-data PMScanR StartedAt: 2025-11-13 17:21:14 -0500 (Thu, 13 Nov 2025) EndedAt: 2025-11-13 17:21:38 -0500 (Thu, 13 Nov 2025) EllapsedTime: 24.3 seconds RetCode: 0 Status: OK PackageFile: PMScanR_1.1.0.tar.gz PackageFileSize: 1.945 MiB