Package: PMScanR Version: 1.1.0 Command: rm -rf PMScanR.buildbin-libdir && mkdir PMScanR.buildbin-libdir && /Users/biocbuild/BBS/utils/build-universal.sh PMScanR_1.1.0.tar.gz /Library/Frameworks/R.framework/Resources/bin/R PMScanR.buildbin-libdir StartedAt: 2025-11-13 23:50:37 -0500 (Thu, 13 Nov 2025) EndedAt: 2025-11-13 23:50:55 -0500 (Thu, 13 Nov 2025) EllapsedTime: 18.4 seconds RetCode: 0 Status: OK PackageFile: PMScanR_1.1.0.tgz PackageFileSize: 1.996 MiB