Package: PMScanR Version: 1.1.0 Maintainer: Jan Pawel Jastrzebski MaintainerEmail: bioinformatyka at gmail.com git_url: https://git.bioconductor.org/packages/PMScanR git_branch: devel git_last_commit: 1e526c3 git_last_commit_date: 2025-10-29 11:38:20 -0500 (Wed, 29 Oct 2025)