Package: PLSDAbatch Version: 1.7.0 Command: /home/biocbuild/bbs-3.23-bioc/R/bin/R CMD INSTALL PLSDAbatch StartedAt: 2025-11-13 15:31:10 -0500 (Thu, 13 Nov 2025) EndedAt: 2025-11-13 15:31:55 -0500 (Thu, 13 Nov 2025) EllapsedTime: 44.3 seconds RetCode: 0 Status: OK