Package: PLSDAbatch Version: 1.7.0 Command: /Library/Frameworks/R.framework/Resources/bin/R CMD INSTALL PLSDAbatch StartedAt: 2025-11-13 15:18:13 -0500 (Thu, 13 Nov 2025) EndedAt: 2025-11-13 15:18:29 -0500 (Thu, 13 Nov 2025) EllapsedTime: 16.4 seconds RetCode: 0 Status: OK