Package: PLSDAbatch Version: 1.7.0 Command: /Library/Frameworks/R.framework/Resources/bin/R CMD build --keep-empty-dirs --no-resave-data PLSDAbatch StartedAt: 2025-11-13 17:20:57 -0500 (Thu, 13 Nov 2025) EndedAt: 2025-11-13 17:21:30 -0500 (Thu, 13 Nov 2025) EllapsedTime: 32.4 seconds RetCode: 0 Status: OK PackageFile: PLSDAbatch_1.7.0.tar.gz PackageFileSize: 1.627 MiB