Package: PLSDAbatch Version: 1.7.0 Maintainer: Yiwen (Eva) Wang MaintainerEmail: anjiwangyiwen at gmail.com git_url: https://git.bioconductor.org/packages/PLSDAbatch git_branch: devel git_last_commit: 744879e git_last_commit_date: 2025-10-29 11:26:59 -0500 (Wed, 29 Oct 2025)