Package: PLPE Version: 1.71.0 Command: /Library/Frameworks/R.framework/Resources/bin/R CMD INSTALL PLPE StartedAt: 2025-11-21 15:07:42 -0500 (Fri, 21 Nov 2025) EndedAt: 2025-11-21 15:07:44 -0500 (Fri, 21 Nov 2025) EllapsedTime: 2.6 seconds RetCode: 0 Status: OK