Package: PLPE Version: 1.71.0 Command: /Library/Frameworks/R.framework/Resources/bin/R CMD build --keep-empty-dirs --no-resave-data PLPE StartedAt: 2025-11-21 17:17:22 -0500 (Fri, 21 Nov 2025) EndedAt: 2025-11-21 17:17:27 -0500 (Fri, 21 Nov 2025) EllapsedTime: 5.1 seconds RetCode: 0 Status: OK PackageFile: PLPE_1.71.0.tar.gz PackageFileSize: 263 KiB