Package: PLPE Version: 1.71.0 Command: rm -rf PLPE.buildbin-libdir && mkdir PLPE.buildbin-libdir && /Users/biocbuild/BBS/utils/build-universal.sh PLPE_1.71.0.tar.gz /Library/Frameworks/R.framework/Resources/bin/R PLPE.buildbin-libdir StartedAt: 2025-11-21 23:45:11 -0500 (Fri, 21 Nov 2025) EndedAt: 2025-11-21 23:45:14 -0500 (Fri, 21 Nov 2025) EllapsedTime: 3.1 seconds RetCode: 0 Status: OK PackageFile: PLPE_1.71.0.tgz PackageFileSize: 302.6 KiB