Package: PIUMA Version: 1.7.0 Command: /home/biocbuild/bbs-3.23-bioc/R/bin/R CMD INSTALL PIUMA StartedAt: 2025-11-13 15:23:07 -0500 (Thu, 13 Nov 2025) EndedAt: 2025-11-13 15:23:36 -0500 (Thu, 13 Nov 2025) EllapsedTime: 29.4 seconds RetCode: 0 Status: OK