Package: PIUMA Version: 1.7.0 Command: /Library/Frameworks/R.framework/Resources/bin/R CMD INSTALL PIUMA StartedAt: 2025-11-12 15:27:09 -0500 (Wed, 12 Nov 2025) EndedAt: 2025-11-12 15:27:20 -0500 (Wed, 12 Nov 2025) EllapsedTime: 11.3 seconds RetCode: 0 Status: OK