Package: PIUMA Version: 1.7.0 Command: /Library/Frameworks/R.framework/Resources/bin/R CMD build --keep-empty-dirs --no-resave-data PIUMA StartedAt: 2025-11-12 16:57:13 -0500 (Wed, 12 Nov 2025) EndedAt: 2025-11-12 16:57:45 -0500 (Wed, 12 Nov 2025) EllapsedTime: 32.4 seconds RetCode: 1 Status: ERROR PackageFile: None PackageFileSize: NA