Package: PIPETS Version: 1.7.0 Command: /home/biocbuild/bbs-3.23-bioc/R/bin/R CMD INSTALL PIPETS StartedAt: 2025-11-14 15:24:55 -0500 (Fri, 14 Nov 2025) EndedAt: 2025-11-14 15:25:05 -0500 (Fri, 14 Nov 2025) EllapsedTime: 10.0 seconds RetCode: 0 Status: OK