Package: PIPETS Version: 1.7.0 Command: /Library/Frameworks/R.framework/Resources/bin/R CMD INSTALL PIPETS StartedAt: 2025-11-14 15:11:38 -0500 (Fri, 14 Nov 2025) EndedAt: 2025-11-14 15:11:42 -0500 (Fri, 14 Nov 2025) EllapsedTime: 4.5 seconds RetCode: 0 Status: OK